BEGIN:VCALENDAR
VERSION:2.0
PRODID:-//Miestenilta.fi - ECPv6.14.0//NONSGML v1.0//EN
CALSCALE:GREGORIAN
METHOD:PUBLISH
X-ORIGINAL-URL:https://miestenilta.fi
X-WR-CALDESC:Tapahtumat Miestenilta.fi
REFRESH-INTERVAL;VALUE=DURATION:PT1H
X-Robots-Tag:noindex
X-PUBLISHED-TTL:PT1H
BEGIN:VTIMEZONE
TZID:Europe/Helsinki
BEGIN:DAYLIGHT
TZOFFSETFROM:+0200
TZOFFSETTO:+0300
TZNAME:EEST
DTSTART:20230326T010000
END:DAYLIGHT
BEGIN:STANDARD
TZOFFSETFROM:+0300
TZOFFSETTO:+0200
TZNAME:EET
DTSTART:20231029T010000
END:STANDARD
END:VTIMEZONE
BEGIN:VEVENT
DTSTART;TZID=Europe/Helsinki:20231012T170000
DTEND;TZID=Europe/Helsinki:20231012T193000
DTSTAMP:20260422T145406
CREATED:20230926T090214Z
LAST-MODIFIED:20230926T090214Z
UID:6191-1697130000-1697139000@miestenilta.fi
SUMMARY:Kotkan miesten saunailta
DESCRIPTION:Miesten saunaillat \nHöyterin kurssikeskuksessa torstaisin klo 17.\nKeitto+kahvit. Saunomisen välineet mukaan. \nTervetuloa kaikki miehet!
URL:https://miestenilta.fi/event/kotkan-miesten-saunailta/
LOCATION:Höyterin Kurssikeskus\, Höyterintie 226\, 48810 Kotka
END:VEVENT
BEGIN:VEVENT
DTSTART;TZID=Europe/Helsinki:20231012T180000
DTEND;TZID=Europe/Helsinki:20231012T190000
DTSTAMP:20260422T145406
CREATED:20230826T114110Z
LAST-MODIFIED:20230826T114110Z
UID:5834-1697133600-1697137200@miestenilta.fi
SUMMARY:Hyvinkään Tuomas-piiri
DESCRIPTION:Kokoonutaan Vehkaojan srk-talossa torstaisin klo 18. \nTervetuloa kaikki miehet!
URL:https://miestenilta.fi/event/hyvinkaan-tuomas-piiri-7/
LOCATION:Vehkaojan seurakuntakeskus\, Yli-Anttilantie 3\, 05830 Hyvinkää\, Yli-Anttilantie 3\, Hyvinkää\, 05830\, Suomi
ATTACH;FMTTYPE=image/jpeg:https://miestenilta.fi/wp-content/uploads/2022/05/Hyvinkaa.jpg
END:VEVENT
END:VCALENDAR