BEGIN:VCALENDAR
VERSION:2.0
PRODID:-//Miestenilta.fi - ECPv6.14.0//NONSGML v1.0//EN
CALSCALE:GREGORIAN
METHOD:PUBLISH
X-ORIGINAL-URL:https://miestenilta.fi
X-WR-CALDESC:Tapahtumat Miestenilta.fi
REFRESH-INTERVAL;VALUE=DURATION:PT1H
X-Robots-Tag:noindex
X-PUBLISHED-TTL:PT1H
BEGIN:VTIMEZONE
TZID:Europe/Helsinki
BEGIN:DAYLIGHT
TZOFFSETFROM:+0200
TZOFFSETTO:+0300
TZNAME:EEST
DTSTART:20230326T010000
END:DAYLIGHT
BEGIN:STANDARD
TZOFFSETFROM:+0300
TZOFFSETTO:+0200
TZNAME:EET
DTSTART:20231029T010000
END:STANDARD
END:VTIMEZONE
BEGIN:VEVENT
DTSTART;TZID=Europe/Helsinki:20231013T180000
DTEND;TZID=Europe/Helsinki:20231013T203000
DTSTAMP:20260422T125119
CREATED:20231002T065028Z
LAST-MODIFIED:20231002T070735Z
UID:6243-1697220000-1697229000@miestenilta.fi
SUMMARY:Miesten Kotailta Kuhmoisissa
DESCRIPTION:Kotailta Kirjastossa: \n\n\n\n\nPerjantaina 13.10.2023 klo 18.00–20.30 \n\n\n\n\n\n\n\n\nMikko Kallionsivu on Kuhmoisten kirjaston pedagoginen informaatikko\, filosofian tohtori. \n’Kasvot vai selkä kuolemaa päin – tai molempia?’ \nTervetuloa kaikki miehet!
URL:https://miestenilta.fi/event/miesten-kotailta-kuhmoisissa-4/
LOCATION:Kuhmoisten Kirjasto\, Toritie 42\, Kuhmoinen\, Suomi
ATTACH;FMTTYPE=image/jpeg:https://miestenilta.fi/wp-content/uploads/2023/10/Kotailtakutsu-131023-Kallionsivu-Mikko-1-1.jpeg
END:VEVENT
END:VCALENDAR