BEGIN:VCALENDAR
VERSION:2.0
PRODID:-//Miestenilta.fi - ECPv6.14.0//NONSGML v1.0//EN
CALSCALE:GREGORIAN
METHOD:PUBLISH
X-WR-CALNAME:Miestenilta.fi
X-ORIGINAL-URL:https://miestenilta.fi
X-WR-CALDESC:Tapahtumat Miestenilta.fi
REFRESH-INTERVAL;VALUE=DURATION:PT1H
X-Robots-Tag:noindex
X-PUBLISHED-TTL:PT1H
BEGIN:VTIMEZONE
TZID:Europe/Helsinki
BEGIN:DAYLIGHT
TZOFFSETFROM:+0200
TZOFFSETTO:+0300
TZNAME:EEST
DTSTART:20240331T010000
END:DAYLIGHT
BEGIN:STANDARD
TZOFFSETFROM:+0300
TZOFFSETTO:+0200
TZNAME:EET
DTSTART:20241027T010000
END:STANDARD
END:VTIMEZONE
BEGIN:VEVENT
DTSTART;TZID=Europe/Helsinki:20241014T180000
DTEND;TZID=Europe/Helsinki:20241014T200000
DTSTAMP:20260420T115225
CREATED:20240827T085702Z
LAST-MODIFIED:20240827T085715Z
UID:7088-1728928800-1728936000@miestenilta.fi
SUMMARY:Launeen miestenilta
DESCRIPTION:Miestenillat parillisten viikkojen maanantaina klo 18 Launeen kirkon alakerrassa. \n  \nOlet tervetullut! \n 
URL:https://miestenilta.fi/event/launeen-miestenilta-41/
LOCATION:Launeen kirkko\, Kaarikatu 41\, Lahti\, Suomi
CATEGORIES:Etusivu
END:VEVENT
END:VCALENDAR