BEGIN:VCALENDAR
VERSION:2.0
PRODID:-//Miestenilta.fi - ECPv6.14.0//NONSGML v1.0//EN
CALSCALE:GREGORIAN
METHOD:PUBLISH
X-WR-CALNAME:Miestenilta.fi
X-ORIGINAL-URL:https://miestenilta.fi
X-WR-CALDESC:Tapahtumat Miestenilta.fi
REFRESH-INTERVAL;VALUE=DURATION:PT1H
X-Robots-Tag:noindex
X-PUBLISHED-TTL:PT1H
BEGIN:VTIMEZONE
TZID:Europe/Helsinki
BEGIN:DAYLIGHT
TZOFFSETFROM:+0200
TZOFFSETTO:+0300
TZNAME:EEST
DTSTART:20260329T010000
END:DAYLIGHT
BEGIN:STANDARD
TZOFFSETFROM:+0300
TZOFFSETTO:+0200
TZNAME:EET
DTSTART:20261025T010000
END:STANDARD
END:VTIMEZONE
BEGIN:VEVENT
DTSTART;TZID=Europe/Helsinki:20260421T170000
DTEND;TZID=Europe/Helsinki:20260421T203000
DTSTAMP:20260421T131551
CREATED:20260101T175718Z
LAST-MODIFIED:20260313T134040Z
UID:8710-1776790800-1776803400@miestenilta.fi
SUMMARY:Hämeenlinnan miehet
DESCRIPTION:Miesten saunaillat ovat tiistaisin klo 17 – 20.30\, Syöksynsuun Leirikeskuksessa\, rantasaunalla.\nOhjelmassa: Sauna lämpimänä klo 17-19. Iltapala ja opetusta.\nKotiin lähdetään n. klo 20.30. \nTervetuloa myös uudet miehet!
URL:https://miestenilta.fi/event/hameenlinnan-miehet-4/
LOCATION:Syöksynsuun Leirikeskus\, Syöksynsuu 27\, Hämeenlinna\, 13500\, Finland
CATEGORIES:Etusivu
ATTACH;FMTTYPE=image/jpeg:https://miestenilta.fi/wp-content/uploads/2024/05/hetki-sauna-3-min-720x720-1.jpg
END:VEVENT
BEGIN:VEVENT
DTSTART;TZID=Europe/Helsinki:20260421T180000
DTEND;TZID=Europe/Helsinki:20260421T193000
DTSTAMP:20260421T131551
CREATED:20260130T103940Z
LAST-MODIFIED:20260411T132006Z
UID:8885-1776794400-1776799800@miestenilta.fi
SUMMARY:Asikkalan Matkamiehet
DESCRIPTION:Keskustelua – Raamatun sanan tutkistelua – kahvitarjoilu.\nParittomien viikkojen tiistaina\nklo 18.00 \nTervetuloa myös uudet miehet mukaan!
URL:https://miestenilta.fi/event/asikkalan-matkamiehet-7/
LOCATION:Seurakuntakoti\, Kalmarintie 13\, Vääksy\, 17200\, Finland
CATEGORIES:Etusivu
ATTACH;FMTTYPE=image/png:https://miestenilta.fi/wp-content/uploads/2026/01/Nayttokuva-2026-01-28-kello-17.51.15.png
END:VEVENT
END:VCALENDAR