BEGIN:VCALENDAR
VERSION:2.0
PRODID:-//Miestenilta.fi - ECPv6.14.0//NONSGML v1.0//EN
CALSCALE:GREGORIAN
METHOD:PUBLISH
X-WR-CALNAME:Miestenilta.fi
X-ORIGINAL-URL:https://miestenilta.fi
X-WR-CALDESC:Tapahtumat Miestenilta.fi
REFRESH-INTERVAL;VALUE=DURATION:PT1H
X-Robots-Tag:noindex
X-PUBLISHED-TTL:PT1H
BEGIN:VTIMEZONE
TZID:Europe/Helsinki
BEGIN:DAYLIGHT
TZOFFSETFROM:+0200
TZOFFSETTO:+0300
TZNAME:EEST
DTSTART:20260329T010000
END:DAYLIGHT
BEGIN:STANDARD
TZOFFSETFROM:+0300
TZOFFSETTO:+0200
TZNAME:EET
DTSTART:20261025T010000
END:STANDARD
END:VTIMEZONE
BEGIN:VEVENT
DTSTART;TZID=Europe/Helsinki:20260422T170000
DTEND;TZID=Europe/Helsinki:20260422T183000
DTSTAMP:20260422T020532
CREATED:20251121T104323Z
LAST-MODIFIED:20251121T104323Z
UID:8609-1776877200-1776882600@miestenilta.fi
SUMMARY:Heinolan miestenpiiri
DESCRIPTION:Kokoonnumme parillisten viikkojen keskiviikkona klo 17 Lampisalissa\, Lampikatu 16\, Heinola.\nLuemme Raamattua ja keskustelemme.\nOpetuspuhe: Laodike. Leo Niemelä \nTervetuloa myös uudet miehet!
URL:https://miestenilta.fi/event/heinolan-miestenpiiri-22/
LOCATION:Heinolan seurakuntatalo\, Lampikatu 16\, Heinola\, Suomi
ATTACH;FMTTYPE=image/png:https://miestenilta.fi/wp-content/uploads/2025/03/Nayttokuva-2025-03-11-kello-11.37.04.png
END:VEVENT
END:VCALENDAR